BEGIN:VCALENDAR
VERSION:2.0
PRODID:-//172.18.0.14//NONSGML kigkonsult.se iCalcreator 2.16.12//
BEGIN:VTIMEZONE
TZID:Europe/London
TZOFFSETFROM:+0000
TZOFFSETTO:+1200
END:VTIMEZONE
BEGIN:VEVENT
UID:20180125T181819NZDT-4897CBC9n7a@triathlontauranga.org.nz
DTSTAMP:20180125T051819Z
DESCRIPTION:\n	Come away to Waiheke Island for an incredible event incorpora
 ting a 21km half marathon\, 10km and 5km.&nbsp\; &#8203\;Take in the best 
 of Waiheke Island with a weekend full of entertainment options and highlig
 hts of the Island.&nbsp\; The course will take you by stunning beaches\, p
 ast vineyards and along quiet country roads - all finishing at Alison Park
  where you can celebrate your efforts with friends and family.\n\n	http://w
 ww.waihekehalfmarathon.co.nz/
DTSTART;VALUE=DATE:20180505
DTEND;VALUE=DATE:20180506
LOCATION:Waiheke Island
SUMMARY:Waiheke Half Marathon
END:VEVENT
END:VCALENDAR
