BEGIN:VCALENDAR
VERSION:2.0
PRODID:-//172.18.0.14//NONSGML kigkonsult.se iCalcreator 2.16.12//
BEGIN:VTIMEZONE
TZID:Europe/London
TZOFFSETFROM:+0000
TZOFFSETTO:+1200
END:VTIMEZONE
BEGIN:VEVENT
UID:20180125T181811NZDT-8900AFsrboa@triathlontauranga.org.nz
DTSTAMP:20180125T051811Z
DESCRIPTION:\n	https://www.harbourtohills.co.nz/
DTSTART;VALUE=DATE:20180408
DTEND;VALUE=DATE:20180409
LOCATION:Napier
SUMMARY:Harbour to Hills
END:VEVENT
END:VCALENDAR
