BEGIN:VCALENDAR
VERSION:2.0
PRODID:-//172.18.0.14//NONSGML kigkonsult.se iCalcreator 2.16.12//
BEGIN:VTIMEZONE
TZID:Europe/London
TZOFFSETFROM:+0000
TZOFFSETTO:+1200
END:VTIMEZONE
BEGIN:VEVENT
UID:20180125T181726NZDT-4824kUj3FTa@triathlontauranga.org.nz
DTSTAMP:20180125T051726Z
DESCRIPTION:\n	The Tauranga International Marathon: It&#39\;s not like any o
 ther marathon event. Well\, you can still run/walk 42.2km\, 21.1km\, 10.5k
 m or 6km&mdash\;plus there&rsquo\;s a kids (and parents!) dash. But here&r
 squo\;s the clincher&mdash\;it&rsquo\;s the first ever international marat
 hon event to be held in New Zealand&rsquo\;s sunshine capital. Think sea\,
  sun\, surf\; think caf&eacute\;s\, culture and seriously cool stuff\; thi
 nk fast\, flat\, fun.\n\n	&nbsp\;https://www.marathontauranga.co.nz/
DTSTART;VALUE=DATE:20171007
DTEND;VALUE=DATE:20171008
LOCATION:Tauranga
SUMMARY:Tauranga International Marathon
END:VEVENT
END:VCALENDAR
