BEGIN:VCALENDAR
VERSION:2.0
PRODID:-//172.18.0.14//NONSGML kigkonsult.se iCalcreator 2.16.12//
BEGIN:VTIMEZONE
TZID:Europe/London
TZOFFSETFROM:+0000
TZOFFSETTO:+1200
END:VTIMEZONE
BEGIN:VEVENT
UID:20180125T181745NZDT-74917v6O0ma@triathlontauranga.org.nz
DTSTAMP:20180125T051745Z
DESCRIPTION:\n	An awesome event with so many options\n\n	&nbsp\;\n\n	http://ru
 nrunrun.co.nz/
DTSTART;VALUE=DATE:20171029
DTEND;VALUE=DATE:20171030
LOCATION:Omokoroa
SUMMARY:Omokoroa Coastal Challenge
END:VEVENT
END:VCALENDAR
