BEGIN:VCALENDAR
VERSION:2.0
PRODID:-//172.18.0.14//NONSGML kigkonsult.se iCalcreator 2.16.12//
BEGIN:VTIMEZONE
TZID:Europe/London
TZOFFSETFROM:+0000
TZOFFSETTO:+1200
END:VTIMEZONE
BEGIN:VEVENT
UID:20180125T181742NZDT-0703Ii9Fuza@triathlontauranga.org.nz
DTSTAMP:20180125T051742Z
DESCRIPTION:\n	The race will start and finish at Firmin Field\, Waterhouse S
 t\, Kawerau.\n	2\n	Officials on the course must be obeyed at all times. They
  are there for your safety.\n	3\n	The route up and down the mountain is via 
 the designated track and is marked. You must keep to the designated marked
  track. If you choose to take any alternative track you will be instantly 
 disqualified from the race.\n	4\n\n	You must go through the checkpoint at th
 e top of the mountain. Your number will be recorded for your safety at che
 ckpoints 5\, 6\, 7 and 8\n\n	&nbsp\;\n\n	http://www.kaweraukingofthemountain
 .co.nz/.
DTSTART;VALUE=DATE:20171028
DTEND;VALUE=DATE:20171029
LOCATION:Kawerau
SUMMARY:Kawerau King of the Mountain
END:VEVENT
END:VCALENDAR
