BEGIN:VCALENDAR
VERSION:2.0
PRODID:-//172.18.0.14//NONSGML kigkonsult.se iCalcreator 2.16.12//
BEGIN:VTIMEZONE
TZID:Europe/London
TZOFFSETFROM:+0000
TZOFFSETTO:+1200
END:VTIMEZONE
BEGIN:VEVENT
UID:20180125T181815NZDT-9117ejkvUga@triathlontauranga.org.nz
DTSTAMP:20180125T051815Z
DESCRIPTION:\n	Regardless whether you come in first or second to last (maybe
  even if you come flat last too)\, you&rsquo\;ll feel like royalty as you 
 gracefully glide up the beach and under the finish line at the King of the
  Bays. Why? Because\, you have conquered the noble challenge of a classic 
 open water swim in the stately surrounds of Takapuna Beach. With Rangitoto
  watching your every stroke\, along with the large safety contingent of li
 feguards from Surf Life Saving New Zealand\, the stunning scene leaves you
  poised to see off summer in style.\n\n	The King of the Bays\, offers the f
 ull suite of event distances\, meaning there&rsquo\;s absolutely a swim (o
 r two) to fit your level of awesomeness. &nbsp\; &nbsp\; &nbsp\;&nbsp\;htt
 ps://oceanswim.co.nz/events/king-of-the-bays-auckland/\n\n	Are you a chlori
 ne junky new to swimming in the briny blue ocean? This is the perfect time
  and place to dip your toes in the good stuff. A safe and reassuring envir
 onment will ensure your confidence grows and your personal challenge is ti
 cked off in style!
DTSTART;VALUE=DATE:20180414
DTEND;VALUE=DATE:20180415
LOCATION:Auckland
SUMMARY:New Zealand Ocean Swim Series - King of the Bays
END:VEVENT
END:VCALENDAR
