BEGIN:VCALENDAR
VERSION:2.0
PRODID:-//172.18.0.14//NONSGML kigkonsult.se iCalcreator 2.16.12//
BEGIN:VTIMEZONE
TZID:Europe/London
TZOFFSETFROM:+0000
TZOFFSETTO:+1200
END:VTIMEZONE
BEGIN:VEVENT
UID:20180125T181736NZDT-5617ZXGUZ8a@triathlontauranga.org.nz
DTSTAMP:20180125T051736Z
DESCRIPTION:\n	The XTERRA Trail Challenge Waihi is a trail running/walking e
 vent in the historic Karangahake Gorge which has a myriad of old tramping\
 , rail and tramway tracks completely surrounded in native bush\, where som
 e of the best off-road trails around the country call home.\n\n	The XTERRA 
 Trail Challenge is the culmination of the popular XTERRA Auckland Trail Ru
 n / Walk series\, a series of 6 events that have been held May - Sep this 
 year in some of the best off-road locations in and around the greater Auck
 land region. The XTERRA Trail Challenge Waihi is open to off-road and trai
 l enthusiasts of all ages\, abilities\, regardless if you&rsquo\;re tall\,
  short\, young\, wise\, a rabbit or a tortoise\, this event screams inclus
 ive!\n\n	Each event offers 4 courses ranging from Short (5 to 7km) to Super
  Long (21km+) and some in-between\, with a competitive/non-competitive wal
 k or run option. There&#39\;s always some challenging but achievable terra
 in to tame while you&#39\;re out there\, and there will ALWAYS be a cold S
 PEIGHT&#39\;s for you when you get to the finish!\n\n	https://www.trailrun.
 co.nz/waihi-home.html
DTSTART;VALUE=DATE:20171021
DTEND;VALUE=DATE:20171022
LOCATION:Waihi
SUMMARY:Xterra Trail run - Waihi
END:VEVENT
END:VCALENDAR
