BEGIN:VCALENDAR
VERSION:2.0
PRODID:-//172.18.0.14//NONSGML kigkonsult.se iCalcreator 2.16.12//
BEGIN:VTIMEZONE
TZID:Europe/London
TZOFFSETFROM:+0000
TZOFFSETTO:+1200
END:VTIMEZONE
BEGIN:VEVENT
UID:20180125T181724NZDT-3418DHCHbKa@triathlontauranga.org.nz
DTSTAMP:20180125T051724Z
DTSTART;VALUE=DATE:20171001
DTEND;VALUE=DATE:20171002
LOCATION:Ohope
SUMMARY:Ohope Duathlon series
END:VEVENT
END:VCALENDAR
