BEGIN:VCALENDAR
VERSION:2.0
PRODID:-//172.18.0.14//NONSGML kigkonsult.se iCalcreator 2.16.12//
BEGIN:VTIMEZONE
TZID:Europe/London
TZOFFSETFROM:+0000
TZOFFSETTO:+1200
END:VTIMEZONE
BEGIN:VEVENT
UID:20180125T181740NZDT-3163P5voPNa@triathlontauranga.org.nz
DTSTAMP:20180125T051740Z
DESCRIPTION:\n	http://www.arcevents.co.nz/k2home/\n\n	&nbsp\;\n\n	THE FLIGHT C
 ENTRE K2 &ndash\; 2\,300 METRES OF SCREAMING DESCENT !\n\n	The Flight Centr
 e K2 is possibly the toughest one day cycle challenge in the Southern Hemi
 sphere. It is also one of the most scenic and varied with the route travel
 ing through sub tropical forest\, pacific coastlines\, rural farmland and 
 the Puhutakawa coastline of the Hauraki Gulf.\n\n	The event is named after 
 Kuaotunu\, an enchanting community on the wild eastern coastline of the Co
 romandel Peninsula. In Maori\, the name Kuaotunu means &ldquo\;to inspire 
 fear in young animals&rdquo\; ! The 2 represents the almost 200km that the
  ride will cover. By coincidence Flight Centre K2 is the 2nd highest\, and
  probably the most difficult to climb\, mountain in the World..
DTSTART;VALUE=DATE:20171028
DTEND;VALUE=DATE:20171029
LOCATION:Coromandel
SUMMARY:K2 Cycle race - Coromandel
END:VEVENT
END:VCALENDAR
