BEGIN:VCALENDAR
VERSION:2.0
PRODID:-//172.18.0.14//NONSGML kigkonsult.se iCalcreator 2.16.12//
BEGIN:VTIMEZONE
TZID:Europe/London
TZOFFSETFROM:+0000
TZOFFSETTO:+1200
END:VTIMEZONE
BEGIN:VEVENT
UID:20180125T181747NZDT-6215hBcDVwa@triathlontauranga.org.nz
DTSTAMP:20180125T051747Z
DESCRIPTION:\n	http://www.aucklandmarathon.co.nz/
DTSTART;VALUE=DATE:20171029
DTEND;VALUE=DATE:20171030
LOCATION:Auckland
SUMMARY:Auckland Marathon
END:VEVENT
END:VCALENDAR
