BEGIN:VCALENDAR
VERSION:2.0
PRODID:-//172.18.0.14//NONSGML kigkonsult.se iCalcreator 2.16.12//
BEGIN:VTIMEZONE
TZID:Europe/London
TZOFFSETFROM:+0000
TZOFFSETTO:+1200
END:VTIMEZONE
BEGIN:VEVENT
UID:20180125T181817NZDT-8251iIrmAma@triathlontauranga.org.nz
DTSTAMP:20180125T051817Z
DESCRIPTION:\n	http://www.rotoruamarathon.co.nz/
DTSTART;VALUE=DATE:20180505
DTEND;VALUE=DATE:20180506
LOCATION:Rotorua
SUMMARY:Rotorua Marathon
END:VEVENT
END:VCALENDAR
